Workbook

Sheet How to Use
B3: TL-3112 Workbook
B4: Caltrans DOT TL-3112 (REV 08/2026) · current form
B8: FILL IN THE YELLOW CELLS, TOP TO BOTTOM
G11: 1 Project, gauge & test area
G12: Stations as 69859 or 698+59. Gmm on line F.
G14: 2 Core correlation
G15: Core and gauge density at each location; N is calculated. Correlated on an earlier day? Type N on line N.
G17: 3 Tons & notes
G18: HMA tons in the test area sets the number of sites. Notes: Enter goes to the next line.
G20: 4 Gauge density
G21: Readings a and b at every site, in g/cc.
G23: 5 Result
G24: S is the relative density, with PASS, LOW or HIGH beside the spec range.
G26: Tab or Enter jumps to the next yellow cell.
B28: RED MEANS CHECK IT
B30: RETEST | D30: LOW / HIGH | F30: > 12 MO | H30: CHECK B & C | J30: 500 T MAX
B31: a and b over 0.05 apart | D31: outside the spec range | F31: gauge calibration too old | H31: station typo | J31: split the test area
B33: SAVE A ONE-PAGE PDF (TL-3112 TAB)
B35: Excel | E35: File › Print › Save as PDF (Windows: Microsoft Print to PDF)
B36: Numbers | E36: File › Print › This Sheet › Fit › PDF
B37: Google Sheets | E37: File › Download › PDF › Scale: Fit to page
B38: iPhone / iPad | E38: … › Export › PDF
B40: Another test area? Copy the TL-3112 tab (right-click the tab).
B43: Bunker Inspections · bunkerinspections.com · contact@bunkerinspections.com
B44: Follows California Test 375 (Feb 2012) and DOT TL-3112 (REV 08/2026). · v1.3
B45: Provided as is, without warranty of any kind. Check every result against CT 375, the current form and your contract before relying on it; you are responsible for its use. Bunker Inspections is not liable for any loss arising from it and is not affiliated with Caltrans. Terms of use: bunkerinspections.com/#terms

Sheet TL-3112
A1: STATE OF CALIFORNIA • DEPARTMENT OF TRANSPORTATION
A2: DENSITY AND RELATIVE COMPACTION OF IN-SITU HOT MIX ASPHALT
A3: DOT TL-3112 (REV 08/2026)
A4: PROJECT | F4: Test By | I4: Lot Number | K4: Date
F6: Aggregate Source
F7: HMA Mix Number
F8: Lane Number
F9: Lift Number
F10: Lift Thickness, ft
A11: DENSITY GAGE | F11: TEST AREA LIMITS
A12: Date of Last Calibration | E12: =IF(AND(ISNUMBER(B12),ISNUMBER(K5)),IF(K5>EDATE(B12,12),"> 12 MO",""),"") | F12: (B) Start Station
A13: Model and ID | F13: (C) Finish Station
A14: (A) Standard Count | F14: (D) Length (C - B), ft | I14: =IF(AND(ISNUMBER($C$49),ISNUMBER($D$49)),IF($D$49-$C$49>0,$D$49-$C$49,"CHECK B & C"),IF(AND(TRIM(I12)<>"",TRIM(I13)<>""),"CHECK B & C",""))
A15: Set/Entered Depth Used* | F15: (E) Lane Width, ft
A16: * Must match value used during correlation | F16: (F) Maximum Theoretical Specific Gravity (Gmm)
A17: CORE CORRELATION WORKSHEET
A18: Location | C18: 1 | E18: 2 | G18: 3 | I18: 4 | K18: 5
A19: Core Density
A20: Gauge Density
A21: Difference (Core Density - Gauge Density) | C21: =IF(AND(ISNUMBER(C19),ISNUMBER(C20)),ROUND(C19-C20,3),"") | E21: =IF(AND(ISNUMBER(E19),ISNUMBER(E20)),ROUND(E19-E20,3),"") | G21: =IF(AND(ISNUMBER(G19),ISNUMBER(G20)),ROUND(G19-G20,3),"") | I21: =IF(AND(ISNUMBER(I19),ISNUMBER(I20)),ROUND(I19-I20,3),"") | K21: =IF(AND(ISNUMBER(K19),ISNUMBER(K20)),ROUND(K19-K20,3),"")
A22: Total Difference (Sum of Difference) | K22: =IF(COUNT($C$21:$L$21)=0,"",ROUND(SUM($C$21:$L$21),3))
A23: Average Difference (Correlation Factor or Offset) (N) | K23: =IF(COUNT($C$21:$L$21)=0,"",ROUND(AVERAGE($C$21:$L$21),3))
A24: FIELD NOTES AND CALCULATIONS (Use back if more room is needed)
A25: HMA in test area, tons | D25: Test sites | F25: =IF(NOT(ISNUMBER(B25)),"",IF(B25>500,"500 T MAX",MAX(5,ROUNDUP(B25/50,0)))) | G25: Spec. range, % | I25: 91 | J25: 97 | K25: Result | L25: =IF(NOT(ISNUMBER(K45)),"",IF(AND(ISNUMBER(I25),K45<I25),"LOW",IF(AND(ISNUMBER(J25),K45>J25),"HIGH","PASS")))
A32: COLUMN | C32: RANDOM NUMBER | F32: Table # | G32: =IF($D$48="","",IF($C$48=10,1,2)) | H32: Block # | I32: =IF(ISNUMBER(B14),MOD(B14,10),"")
A33: (G) Left (Longitudinal Location) | C33: =IF(C53="","",INDEX($C$50:$L$50,MATCH(C53,$C$52:$L$52,0))) | D33: =IF(D53="","",INDEX($C$50:$L$50,MATCH(D53,$C$52:$L$52,0))) | E33: =IF(E53="","",INDEX($C$50:$L$50,MATCH(E53,$C$52:$L$52,0))) | F33: =IF(F53="","",INDEX($C$50:$L$50,MATCH(F53,$C$52:$L$52,0))) | G33: =IF(G53="","",INDEX($C$50:$L$50,MATCH(G53,$C$52:$L$52,0))) | H33: =IF(H53="","",INDEX($C$50:$L$50,MATCH(H53,$C$52:$L$52,0))) | I33: =IF(I53="","",INDEX($C$50:$L$50,MATCH(I53,$C$52:$L$52,0))) | J33: =IF(J53="","",INDEX($C$50:$L$50,MATCH(J53,$C$52:$L$52,0))) | ... L33: =IF(L53="","",INDEX($C$50:$L$50,MATCH(L53,$C$52:$L$52,0)))
A34: (H) Right (Transverse Location) | C34: =IF(C53="","",INDEX($C$51:$L$51,MATCH(C53,$C$52:$L$52,0))) | D34: =IF(D53="","",INDEX($C$51:$L$51,MATCH(D53,$C$52:$L$52,0))) | E34: =IF(E53="","",INDEX($C$51:$L$51,MATCH(E53,$C$52:$L$52,0))) | F34: =IF(F53="","",INDEX($C$51:$L$51,MATCH(F53,$C$52:$L$52,0))) | G34: =IF(G53="","",INDEX($C$51:$L$51,MATCH(G53,$C$52:$L$52,0))) | H34: =IF(H53="","",INDEX($C$51:$L$51,MATCH(H53,$C$52:$L$52,0))) | I34: =IF(I53="","",INDEX($C$51:$L$51,MATCH(I53,$C$52:$L$52,0))) | J34: =IF(J53="","",INDEX($C$51:$L$51,MATCH(J53,$C$52:$L$52,0))) | ... L34: =IF(L53="","",INDEX($C$51:$L$51,MATCH(L53,$C$52:$L$52,0)))
A35: TEST SITE LOCATIONS | C35: =IF((COLUMN()-2)>$C$48,"",(COLUMN()-2)) -> 1 | D35: =IF((COLUMN()-2)>$C$48,"",(COLUMN()-2)) -> 2 | E35: =IF((COLUMN()-2)>$C$48,"",(COLUMN()-2)) -> 3 | F35: =IF((COLUMN()-2)>$C$48,"",(COLUMN()-2)) -> 4 | G35: =IF((COLUMN()-2)>$C$48,"",(COLUMN()-2)) -> 5 | H35: =IF((COLUMN()-2)>$C$48,"",(COLUMN()-2)) -> 6 | I35: =IF((COLUMN()-2)>$C$48,"",(COLUMN()-2)) -> 7 | J35: =IF((COLUMN()-2)>$C$48,"",(COLUMN()-2)) -> 8 | ... L35: =IF((COLUMN()-2)>$C$48,"",(COLUMN()-2)) -> 10
A36: (I) Longitudinal Distance from Start D x G (Round up to Whole Number) | C36: =IF(OR(C33="",NOT(ISNUMBER($I$14))),"",IF($I$14<=0,"",ROUNDUP($I$14*C33,0))) | D36: =IF(OR(D33="",NOT(ISNUMBER($I$14))),"",IF($I$14<=0,"",ROUNDUP($I$14*D33,0))) | E36: =IF(OR(E33="",NOT(ISNUMBER($I$14))),"",IF($I$14<=0,"",ROUNDUP($I$14*E33,0))) | F36: =IF(OR(F33="",NOT(ISNUMBER($I$14))),"",IF($I$14<=0,"",ROUNDUP($I$14*F33,0))) | G36: =IF(OR(G33="",NOT(ISNUMBER($I$14))),"",IF($I$14<=0,"",ROUNDUP($I$14*G33,0))) | H36: =IF(OR(H33="",NOT(ISNUMBER($I$14))),"",IF($I$14<=0,"",ROUNDUP($I$14*H33,0))) | I36: =IF(OR(I33="",NOT(ISNUMBER($I$14))),"",IF($I$14<=0,"",ROUNDUP($I$14*I33,0))) | J36: =IF(OR(J33="",NOT(ISNUMBER($I$14))),"",IF($I$14<=0,"",ROUNDUP($I$14*J33,0))) | ... L36: =IF(OR(L33="",NOT(ISNUMBER($I$14))),"",IF($I$14<=0,"",ROUNDUP($I$14*L33,0)))
A37: (J) Station I + B | C37: =IF(OR(C36="",NOT(ISNUMBER($C$49))),"",$C$49+C36) | D37: =IF(OR(D36="",NOT(ISNUMBER($C$49))),"",$C$49+D36) | E37: =IF(OR(E36="",NOT(ISNUMBER($C$49))),"",$C$49+E36) | F37: =IF(OR(F36="",NOT(ISNUMBER($C$49))),"",$C$49+F36) | G37: =IF(OR(G36="",NOT(ISNUMBER($C$49))),"",$C$49+G36) | H37: =IF(OR(H36="",NOT(ISNUMBER($C$49))),"",$C$49+H36) | I37: =IF(OR(I36="",NOT(ISNUMBER($C$49))),"",$C$49+I36) | J37: =IF(OR(J36="",NOT(ISNUMBER($C$49))),"",$C$49+J36) | ... L37: =IF(OR(L36="",NOT(ISNUMBER($C$49))),"",$C$49+L36)
A38: (K) Transverse Distance from Edge E x H (Round up to Whole Number) | C38: =IF(OR(C34="",NOT(ISNUMBER($I$15))),"",IF($I$15<2,"",MIN(MAX(ROUNDUP($I$15*C34,0),1),$I$15-1))) | D38: =IF(OR(D34="",NOT(ISNUMBER($I$15))),"",IF($I$15<2,"",MIN(MAX(ROUNDUP($I$15*D34,0),1),$I$15-1))) | E38: =IF(OR(E34="",NOT(ISNUMBER($I$15))),"",IF($I$15<2,"",MIN(MAX(ROUNDUP($I$15*E34,0),1),$I$15-1))) | F38: =IF(OR(F34="",NOT(ISNUMBER($I$15))),"",IF($I$15<2,"",MIN(MAX(ROUNDUP($I$15*F34,0),1),$I$15-1))) | G38: =IF(OR(G34="",NOT(ISNUMBER($I$15))),"",IF($I$15<2,"",MIN(MAX(ROUNDUP($I$15*G34,0),1),$I$15-1))) | H38: =IF(OR(H34="",NOT(ISNUMBER($I$15))),"",IF($I$15<2,"",MIN(MAX(ROUNDUP($I$15*H34,0),1),$I$15-1))) | I38: =IF(OR(I34="",NOT(ISNUMBER($I$15))),"",IF($I$15<2,"",MIN(MAX(ROUNDUP($I$15*I34,0),1),$I$15-1))) | J38: =IF(OR(J34="",NOT(ISNUMBER($I$15))),"",IF($I$15<2,"",MIN(MAX(ROUNDUP($I$15*J34,0),1),$I$15-1))) | ... L38: =IF(OR(L34="",NOT(ISNUMBER($I$15))),"",IF($I$15<2,"",MIN(MAX(ROUNDUP($I$15*L34,0),1),$I$15-1)))
A39: (L) Gauge Density | B39: a
B40: b
B41: Avg. | C41: =IF(C$35="","",IF(COUNT(C39:C40)<2,"",IF(ROUND(ABS(C39-C40),2)>0.05,"RETEST",ROUND(AVERAGE(C39:C40),2)))) | D41: =IF(D$35="","",IF(COUNT(D39:D40)<2,"",IF(ROUND(ABS(D39-D40),2)>0.05,"RETEST",ROUND(AVERAGE(D39:D40),2)))) | E41: =IF(E$35="","",IF(COUNT(E39:E40)<2,"",IF(ROUND(ABS(E39-E40),2)>0.05,"RETEST",ROUND(AVERAGE(E39:E40),2)))) | F41: =IF(F$35="","",IF(COUNT(F39:F40)<2,"",IF(ROUND(ABS(F39-F40),2)>0.05,"RETEST",ROUND(AVERAGE(F39:F40),2)))) | G41: =IF(G$35="","",IF(COUNT(G39:G40)<2,"",IF(ROUND(ABS(G39-G40),2)>0.05,"RETEST",ROUND(AVERAGE(G39:G40),2)))) | H41: =IF(H$35="","",IF(COUNT(H39:H40)<2,"",IF(ROUND(ABS(H39-H40),2)>0.05,"RETEST",ROUND(AVERAGE(H39:H40),2)))) | I41: =IF(I$35="","",IF(COUNT(I39:I40)<2,"",IF(ROUND(ABS(I39-I40),2)>0.05,"RETEST",ROUND(AVERAGE(I39:I40),2)))) | J41: =IF(J$35="","",IF(COUNT(J39:J40)<2,"",IF(ROUND(ABS(J39-J40),2)>0.05,"RETEST",ROUND(AVERAGE(J39:J40),2)))) | ... L41: =IF(L$35="","",IF(COUNT(L39:L40)<2,"",IF(ROUND(ABS(L39-L40),2)>0.05,"RETEST",ROUND(AVERAGE(L39:L40),2))))
A42: (M) Average In-Place Density (All Sites) | D42: =IF(COUNT($C$41:$L$41)=0,"",IF(COUNT($C$41:$L$41)<$C$48,COUNT($C$41:$L$41)&" of "&$C$48&" sites",ROUND(AVERAGE($C$41:$L$41),2))) | F42: (P) Not Used
A43: After Exclusions (Test Strips Only) | F43: (Q) Not Used
A44: (N) Correlation Factor (Gauge to Cores) | D44: =IF(ISNUMBER($K$23),$K$23,"") | F44: (R) Maximum Theoretical Specific Gravity (Gmm) | K44: =IF(ISNUMBER($K$16),$K$16,"")
A45: (O) Corrected In-Place Density (M + N) | D45: =IF(AND(ISNUMBER(D42),ISNUMBER(D44)),ROUND(D42+D44,2),"") | F45: (S) Relative Density (O / R), % | K45: =IF(AND(ISNUMBER(D45),ISNUMBER(K44)),IF(K44>0,ROUND(D45/K44*100,1),""),"")
A46: Americans with Disabilities Act (ADA) Notice: This document is available in alternative accessible formats. For more information, please contact the Forms Management Unit at (279) 234-2284, TTY 711, in writing at Forms Management Unit, 1120 N Street, MS-89, Sacramento, CA 95814, or by email at Forms.Management.Unit@dot.ca.gov.
A47: Helpers for the formulas above. Do not edit.
A48: Sites / block in use | C48: =IF(ISNUMBER(F25),MIN(10,MAX(1,INT(F25))),10) -> 10 | D48: =IF(I32="","",IF(ISNUMBER(I32),MOD(INT(I32),10),IFERROR(MOD(INT(VALUE(I32)),10),"")))
A49: Start / finish station | C49: =IF(ISNUMBER(I12),I12,IF(TRIM(I12)="","",IFERROR(VALUE(SUBSTITUTE(SUBSTITUTE(TRIM(I12),"+","")," ","")),""))) | D49: =IF(ISNUMBER(I13),I13,IF(TRIM(I13)="","",IFERROR(VALUE(SUBSTITUTE(SUBSTITUTE(TRIM(I13),"+","")," ","")),"")))
A50: Pairs from the table: longit. | C50: =IF(OR($D$48="",(COLUMN()-2)>$C$48),"",IF($G$32=1,IF($D$48<5,INDEX('Table 1'!$B$5:$K$14,(COLUMN()-2),2*$D$48+1),INDEX('Table 1'!$B$17:$K$26,(COLUMN()-2),2*($D$48-5)+1)),IF($D$48<5,INDEX('Table 2'!$B$5:$K$13,(COLUMN()-2),2*$D$48+1),INDEX('Table 2'!$B$16:$K$24,(COLUMN()-2),2*($D$48-5)+1)))) | D50: =IF(OR($D$48="",(COLUMN()-2)>$C$48),"",IF($G$32=1,IF($D$48<5,INDEX('Table 1'!$B$5:$K$14,(COLUMN()-2),2*$D$48+1),INDEX('Table 1'!$B$17:$K$26,(COLUMN()-2),2*($D$48-5)+1)),IF($D$48<5,INDEX('Table 2'!$B$5:$K$13,(COLUMN()-2),2*$D$48+1),INDEX('Table 2'!$B$16:$K$24,(COLUMN()-2),2*($D$48-5)+1)))) | E50: =IF(OR($D$48="",(COLUMN()-2)>$C$48),"",IF($G$32=1,IF($D$48<5,INDEX('Table 1'!$B$5:$K$14,(COLUMN()-2),2*$D$48+1),INDEX('Table 1'!$B$17:$K$26,(COLUMN()-2),2*($D$48-5)+1)),IF($D$48<5,INDEX('Table 2'!$B$5:$K$13,(COLUMN()-2),2*$D$48+1),INDEX('Table 2'!$B$16:$K$24,(COLUMN()-2),2*($D$48-5)+1)))) | F50: =IF(OR($D$48="",(COLUMN()-2)>$C$48),"",IF($G$32=1,IF($D$48<5,INDEX('Table 1'!$B$5:$K$14,(COLUMN()-2),2*$D$48+1),INDEX('Table 1'!$B$17:$K$26,(COLUMN()-2),2*($D$48-5)+1)),IF($D$48<5,INDEX('Table 2'!$B$5:$K$13,(COLUMN()-2),2*$D$48+1),INDEX('Table 2'!$B$16:$K$24,(COLUMN()-2),2*($D$48-5)+1)))) | G50: =IF(OR($D$48="",(COLUMN()-2)>$C$48),"",IF($G$32=1,IF($D$48<5,INDEX('Table 1'!$B$5:$K$14,(COLUMN()-2),2*$D$48+1),INDEX('Table 1'!$B$17:$K$26,(COLUMN()-2),2*($D$48-5)+1)),IF($D$48<5,INDEX('Table 2'!$B$5:$K$13,(COLUMN()-2),2*$D$48+1),INDEX('Table 2'!$B$16:$K$24,(COLUMN()-2),2*($D$48-5)+1)))) | H50: =IF(OR($D$48="",(COLUMN()-2)>$C$48),"",IF($G$32=1,IF($D$48<5,INDEX('Table 1'!$B$5:$K$14,(COLUMN()-2),2*$D$48+1),INDEX('Table 1'!$B$17:$K$26,(COLUMN()-2),2*($D$48-5)+1)),IF($D$48<5,INDEX('Table 2'!$B$5:$K$13,(COLUMN()-2),2*$D$48+1),INDEX('Table 2'!$B$16:$K$24,(COLUMN()-2),2*($D$48-5)+1)))) | I50: =IF(OR($D$48="",(COLUMN()-2)>$C$48),"",IF($G$32=1,IF($D$48<5,INDEX('Table 1'!$B$5:$K$14,(COLUMN()-2),2*$D$48+1),INDEX('Table 1'!$B$17:$K$26,(COLUMN()-2),2*($D$48-5)+1)),IF($D$48<5,INDEX('Table 2'!$B$5:$K$13,(COLUMN()-2),2*$D$48+1),INDEX('Table 2'!$B$16:$K$24,(COLUMN()-2),2*($D$48-5)+1)))) | J50: =IF(OR($D$48="",(COLUMN()-2)>$C$48),"",IF($G$32=1,IF($D$48<5,INDEX('Table 1'!$B$5:$K$14,(COLUMN()-2),2*$D$48+1),INDEX('Table 1'!$B$17:$K$26,(COLUMN()-2),2*($D$48-5)+1)),IF($D$48<5,INDEX('Table 2'!$B$5:$K$13,(COLUMN()-2),2*$D$48+1),INDEX('Table 2'!$B$16:$K$24,(COLUMN()-2),2*($D$48-5)+1)))) | ... L50: =IF(OR($D$48="",(COLUMN()-2)>$C$48),"",IF($G$32=1,IF($D$48<5,INDEX('Table 1'!$B$5:$K$14,(COLUMN()-2),2*$D$48+1),INDEX('Table 1'!$B$17:$K$26,(COLUMN()-2),2*($D$48-5)+1)),IF($D$48<5,INDEX('Table 2'!$B$5:$K$13,(COLUMN()-2),2*$D$48+1),INDEX('Table 2'!$B$16:$K$24,(COLUMN()-2),2*($D$48-5)+1))))
A51: Pairs from the table: trans. | C51: =IF(OR($D$48="",(COLUMN()-2)>$C$48),"",IF($G$32=1,IF($D$48<5,INDEX('Table 1'!$B$5:$K$14,(COLUMN()-2),2*$D$48+2),INDEX('Table 1'!$B$17:$K$26,(COLUMN()-2),2*($D$48-5)+2)),IF($D$48<5,INDEX('Table 2'!$B$5:$K$13,(COLUMN()-2),2*$D$48+2),INDEX('Table 2'!$B$16:$K$24,(COLUMN()-2),2*($D$48-5)+2)))) | D51: =IF(OR($D$48="",(COLUMN()-2)>$C$48),"",IF($G$32=1,IF($D$48<5,INDEX('Table 1'!$B$5:$K$14,(COLUMN()-2),2*$D$48+2),INDEX('Table 1'!$B$17:$K$26,(COLUMN()-2),2*($D$48-5)+2)),IF($D$48<5,INDEX('Table 2'!$B$5:$K$13,(COLUMN()-2),2*$D$48+2),INDEX('Table 2'!$B$16:$K$24,(COLUMN()-2),2*($D$48-5)+2)))) | E51: =IF(OR($D$48="",(COLUMN()-2)>$C$48),"",IF($G$32=1,IF($D$48<5,INDEX('Table 1'!$B$5:$K$14,(COLUMN()-2),2*$D$48+2),INDEX('Table 1'!$B$17:$K$26,(COLUMN()-2),2*($D$48-5)+2)),IF($D$48<5,INDEX('Table 2'!$B$5:$K$13,(COLUMN()-2),2*$D$48+2),INDEX('Table 2'!$B$16:$K$24,(COLUMN()-2),2*($D$48-5)+2)))) | F51: =IF(OR($D$48="",(COLUMN()-2)>$C$48),"",IF($G$32=1,IF($D$48<5,INDEX('Table 1'!$B$5:$K$14,(COLUMN()-2),2*$D$48+2),INDEX('Table 1'!$B$17:$K$26,(COLUMN()-2),2*($D$48-5)+2)),IF($D$48<5,INDEX('Table 2'!$B$5:$K$13,(COLUMN()-2),2*$D$48+2),INDEX('Table 2'!$B$16:$K$24,(COLUMN()-2),2*($D$48-5)+2)))) | G51: =IF(OR($D$48="",(COLUMN()-2)>$C$48),"",IF($G$32=1,IF($D$48<5,INDEX('Table 1'!$B$5:$K$14,(COLUMN()-2),2*$D$48+2),INDEX('Table 1'!$B$17:$K$26,(COLUMN()-2),2*($D$48-5)+2)),IF($D$48<5,INDEX('Table 2'!$B$5:$K$13,(COLUMN()-2),2*$D$48+2),INDEX('Table 2'!$B$16:$K$24,(COLUMN()-2),2*($D$48-5)+2)))) | H51: =IF(OR($D$48="",(COLUMN()-2)>$C$48),"",IF($G$32=1,IF($D$48<5,INDEX('Table 1'!$B$5:$K$14,(COLUMN()-2),2*$D$48+2),INDEX('Table 1'!$B$17:$K$26,(COLUMN()-2),2*($D$48-5)+2)),IF($D$48<5,INDEX('Table 2'!$B$5:$K$13,(COLUMN()-2),2*$D$48+2),INDEX('Table 2'!$B$16:$K$24,(COLUMN()-2),2*($D$48-5)+2)))) | I51: =IF(OR($D$48="",(COLUMN()-2)>$C$48),"",IF($G$32=1,IF($D$48<5,INDEX('Table 1'!$B$5:$K$14,(COLUMN()-2),2*$D$48+2),INDEX('Table 1'!$B$17:$K$26,(COLUMN()-2),2*($D$48-5)+2)),IF($D$48<5,INDEX('Table 2'!$B$5:$K$13,(COLUMN()-2),2*$D$48+2),INDEX('Table 2'!$B$16:$K$24,(COLUMN()-2),2*($D$48-5)+2)))) | J51: =IF(OR($D$48="",(COLUMN()-2)>$C$48),"",IF($G$32=1,IF($D$48<5,INDEX('Table 1'!$B$5:$K$14,(COLUMN()-2),2*$D$48+2),INDEX('Table 1'!$B$17:$K$26,(COLUMN()-2),2*($D$48-5)+2)),IF($D$48<5,INDEX('Table 2'!$B$5:$K$13,(COLUMN()-2),2*$D$48+2),INDEX('Table 2'!$B$16:$K$24,(COLUMN()-2),2*($D$48-5)+2)))) | ... L51: =IF(OR($D$48="",(COLUMN()-2)>$C$48),"",IF($G$32=1,IF($D$48<5,INDEX('Table 1'!$B$5:$K$14,(COLUMN()-2),2*$D$48+2),INDEX('Table 1'!$B$17:$K$26,(COLUMN()-2),2*($D$48-5)+2)),IF($D$48<5,INDEX('Table 2'!$B$5:$K$13,(COLUMN()-2),2*$D$48+2),INDEX('Table 2'!$B$16:$K$24,(COLUMN()-2),2*($D$48-5)+2))))
A52: Sort key | C52: =IF(C50="","",C50+(COLUMN()-2)/1000000) | D52: =IF(D50="","",D50+(COLUMN()-2)/1000000) | E52: =IF(E50="","",E50+(COLUMN()-2)/1000000) | F52: =IF(F50="","",F50+(COLUMN()-2)/1000000) | G52: =IF(G50="","",G50+(COLUMN()-2)/1000000) | H52: =IF(H50="","",H50+(COLUMN()-2)/1000000) | I52: =IF(I50="","",I50+(COLUMN()-2)/1000000) | J52: =IF(J50="","",J50+(COLUMN()-2)/1000000) | ... L52: =IF(L50="","",L50+(COLUMN()-2)/1000000)
A53: Sorted key | C53: =IF((COLUMN()-2)>COUNT($C$52:$L$52),"",SMALL($C$52:$L$52,(COLUMN()-2))) | D53: =IF((COLUMN()-2)>COUNT($C$52:$L$52),"",SMALL($C$52:$L$52,(COLUMN()-2))) | E53: =IF((COLUMN()-2)>COUNT($C$52:$L$52),"",SMALL($C$52:$L$52,(COLUMN()-2))) | F53: =IF((COLUMN()-2)>COUNT($C$52:$L$52),"",SMALL($C$52:$L$52,(COLUMN()-2))) | G53: =IF((COLUMN()-2)>COUNT($C$52:$L$52),"",SMALL($C$52:$L$52,(COLUMN()-2))) | H53: =IF((COLUMN()-2)>COUNT($C$52:$L$52),"",SMALL($C$52:$L$52,(COLUMN()-2))) | I53: =IF((COLUMN()-2)>COUNT($C$52:$L$52),"",SMALL($C$52:$L$52,(COLUMN()-2))) | J53: =IF((COLUMN()-2)>COUNT($C$52:$L$52),"",SMALL($C$52:$L$52,(COLUMN()-2))) | ... L53: =IF((COLUMN()-2)>COUNT($C$52:$L$52),"",SMALL($C$52:$L$52,(COLUMN()-2)))

Sheet Table 1
B1: TABLE 1. Sequential Random Numbers
B2: California Test 375 (Feb 2012). Used when ten test sites are required. Each set of ten is already in stationing order. The block in use shows on each form as Table # and Block #.
B3: Block 0 | D3: Block 1 | F3: Block 2 | H3: Block 3 | J3: Block 4
B4: Longit. | C4: Trans. | D4: Longit. | E4: Trans. | F4: Longit. | G4: Trans. | H4: Longit. | I4: Trans. | J4: Longit. | K4: Trans.
B5: 0.053 | C5: 0.73 | D5: 0.035 | E5: 0.627 | F5: 0.231 | G5: 0.87 | H5: 0.081 | I5: 0.137 | J5: 0.106 | K5: 0.239
B6: 0.081 | C6: 0.948 | D6: 0.137 | E6: 0.163 | F6: 0.251 | G6: 0.114 | H6: 0.285 | I6: 0.542 | J6: 0.231 | K6: 0.291
B7: 0.095 | C7: 0.726 | D7: 0.164 | E7: 0.093 | F7: 0.271 | G7: 0.505 | H7: 0.324 | I7: 0.538 | J7: 0.253 | K7: 0.858
B8: 0.576 | C8: 0.482 | D8: 0.225 | E8: 0.921 | F8: 0.396 | G8: 0.125 | H8: 0.47 | I8: 0.414 | J8: 0.398 | K8: 0.761
B9: 0.609 | C9: 0.824 | D9: 0.334 | E9: 0.417 | F9: 0.427 | G9: 0.392 | H9: 0.522 | I9: 0.235 | J9: 0.517 | K9: 0.463
B10: 0.669 | C10: 0.899 | D10: 0.356 | E10: 0.85 | F10: 0.549 | G10: 0.76 | H10: 0.569 | I10: 0.608 | J10: 0.64 | K10: 0.993
B11: 0.81 | C11: 0.159 | D11: 0.434 | E11: 0.838 | F11: 0.69 | G11: 0.405 | H11: 0.579 | I11: 0.977 | J11: 0.749 | K11: 0.919
B12: 0.892 | C12: 0.277 | D12: 0.554 | E12: 0.375 | F12: 0.86 | G12: 0.507 | H12: 0.751 | I12: 0.592 | J12: 0.904 | K12: 0.501
B13: 0.971 | C13: 0.468 | D13: 0.576 | E13: 0.155 | F13: 0.935 | G13: 0.806 | H13: 0.815 | I13: 0.787 | J13: 0.986 | K13: 0.131
B14: 0.982 | C14: 0.801 | D14: 0.794 | E14: 0.638 | F14: 0.997 | G14: 0.884 | H14: 0.879 | I14: 0.871 | J14: 0.998 | K14: 0.222
B15: Block 5 | D15: Block 6 | F15: Block 7 | H15: Block 8 | J15: Block 9
B16: Longit. | C16: Trans. | D16: Longit. | E16: Trans. | F16: Longit. | G16: Trans. | H16: Longit. | I16: Trans. | J16: Longit. | K16: Trans.
B17: 0.068 | C17: 0.095 | D17: 0.109 | E17: 0.548 | F17: 0.021 | G17: 0.887 | H17: 0.1 | I17: 0.472 | J17: 0.335 | K17: 0.683
B18: 0.165 | C18: 0.459 | D18: 0.127 | E18: 0.964 | F18: 0.15 | G18: 0.169 | H18: 0.123 | I18: 0.086 | J18: 0.348 | K18: 0.996
B19: 0.371 | C19: 0.996 | D19: 0.209 | E19: 0.064 | F19: 0.159 | G19: 0.979 | H19: 0.396 | I19: 0.355 | J19: 0.358 | K19: 0.743
B20: 0.47 | C20: 0.535 | D20: 0.412 | E20: 0.356 | F20: 0.289 | G20: 0.187 | H20: 0.423 | I20: 0.46 | J20: 0.601 | K20: 0.595
B21: 0.477 | C21: 0.101 | D21: 0.587 | E21: 0.284 | F21: 0.448 | G21: 0.894 | H21: 0.673 | I21: 0.652 | J21: 0.698 | K21: 0.539
B22: 0.509 | C22: 0.815 | D22: 0.622 | E22: 0.862 | F22: 0.654 | G22: 0.169 | H22: 0.817 | I22: 0.259 | J22: 0.74 | K22: 0.466
B23: 0.566 | C23: 0.342 | D23: 0.667 | E23: 0.843 | F23: 0.767 | G23: 0.985 | H23: 0.833 | I23: 0.317 | J23: 0.796 | K23: 0.212
B24: 0.788 | C24: 0.682 | D24: 0.757 | E24: 0.283 | F24: 0.919 | G24: 0.962 | H24: 0.89 | I24: 0.665 | J24: 0.864 | K24: 0.069
B25: 0.874 | C25: 0.242 | D25: 0.831 | E25: 0.908 | F25: 0.942 | G25: 0.313 | H25: 0.925 | I25: 0.404 | J25: 0.896 | K25: 0.247
B26: 0.901 | C26: 0.42 | D26: 0.873 | E26: 0.218 | F26: 0.947 | G26: 0.215 | H26: 0.928 | I26: 0.305 | J26: 0.909 | K26: 0.326
B28: INSTRUCTIONS
B29: 1. Begin with the numbers at the top of each column; use each successive pair of numbers to determine the longitudinal and transverse distance to each test site.
B30: 2. Arrange the pairs in sequential order based on the longitudinal location. Record the paired numbers on Lines G and H of Form TL-3112.
B31: 3. To determine the longitudinal distance from the start station on Line B, multiply the numbers on Line G by the length of the pavement on Line D. Round the product up to the next whole number and record on Line I. To determine the station of a test site, add the distance on Line I to the start station on Line B and record the result on Line J.
B32: 4. To determine the transverse distance from the edge of pavement, multiply the numbers on Line H by the width of the pavement on Line E. Round the product up to the next whole number and record on Line K. Any test site within 1 ft. of the pavement edge should be relocated to 1 ft. from the edge.
B33: 5. Reference all test sites to identifiable locations; e.g., edge of pavement, stationing, centerline, etc.

Sheet Table 2
B1: TABLE 2. Table of Random Numbers
B2: California Test 375 (Feb 2012). Used when fewer than ten test sites are required; each block gives up to nine pairs. The block in use shows on each form as Table # and Block #.
B3: Block 0 | D3: Block 1 | F3: Block 2 | H3: Block 3 | J3: Block 4
B4: Longit. | C4: Trans. | D4: Longit. | E4: Trans. | F4: Longit. | G4: Trans. | H4: Longit. | I4: Trans. | J4: Longit. | K4: Trans.
B5: 0.576 | C5: 0.73 | D5: 0.43 | E5: 0.754 | F5: 0.271 | G5: 0.87 | H5: 0.732 | I5: 0.721 | J5: 0.998 | K5: 0.239
B6: 0.971 | C6: 0.824 | D6: 0.858 | E6: 0.125 | F6: 0.396 | G6: 0.095 | H6: 0.153 | I6: 0.508 | J6: 0.749 | K6: 0.291
B7: 0.81 | C7: 0.159 | D7: 0.902 | E7: 0.47 | F7: 0.997 | G7: 0.392 | H7: 0.009 | I7: 0.42 | J7: 0.517 | K7: 0.858
B8: 0.081 | C8: 0.277 | D8: 0.554 | E8: 0.627 | F8: 0.427 | G8: 0.76 | H8: 0.937 | I8: 0.31 | J8: 0.253 | K8: 0.761
B9: 0.982 | C9: 0.468 | D9: 0.225 | E9: 0.163 | F9: 0.549 | G9: 0.405 | H9: 0.892 | I9: 0.957 | J9: 0.64 | K9: 0.463
B10: 0.371 | C10: 0.359 | D10: 0.035 | E10: 0.339 | F10: 0.86 | G10: 0.507 | H10: 0.47 | I10: 0.08 | J10: 0.106 | K10: 0.131
B11: 0.165 | C11: 0.996 | D11: 0.334 | E11: 0.921 | F11: 0.654 | G11: 0.979 | H11: 0.285 | I11: 0.542 | J11: 0.796 | K11: 0.996
B12: 0.477 | C12: 0.535 | D12: 0.794 | E12: 0.85 | F12: 0.767 | G12: 0.187 | H12: 0.081 | I12: 0.538 | J12: 0.358 | K12: 0.595
B13: 0.788 | C13: 0.101 | D13: 0.164 | E13: 0.838 | F13: 0.021 | G13: 0.894 | H13: 0.324 | I13: 0.871 | J13: 0.698 | K13: 0.539
B14: Block 5 | D14: Block 6 | F14: Block 7 | H14: Block 8 | J14: Block 9
B15: Longit. | C15: Trans. | D15: Longit. | E15: Trans. | F15: Longit. | G15: Trans. | H15: Longit. | I15: Trans. | J15: Longit. | K15: Trans.
B16: 0.566 | C16: 0.815 | D16: 0.873 | E16: 0.964 | F16: 0.942 | G16: 0.985 | H16: 0.123 | I16: 0.086 | J16: 0.864 | K16: 0.466
B17: 0.901 | C17: 0.342 | D17: 0.412 | E17: 0.641 | F17: 0.195 | G17: 0.313 | H17: 0.396 | I17: 0.46 | J17: 0.335 | K17: 0.212
B18: 0.47 | C18: 0.682 | D18: 0.667 | E18: 0.356 | F18: 0.428 | G18: 0.117 | H18: 0.833 | I18: 0.652 | J18: 0.909 | K18: 0.819
B19: 0.068 | C19: 0.242 | D19: 0.127 | E19: 0.284 | F19: 0.759 | G19: 0.239 | H19: 0.1 | I19: 0.259 | J19: 0.601 | K19: 0.326
B20: 0.874 | C20: 0.42 | D20: 0.209 | E20: 0.862 | F20: 0.666 | G20: 0.491 | H20: 0.523 | I20: 0.665 | J20: 0.195 | K20: 0.887
B21: 0.875 | C21: 0.969 | D21: 0.552 | E21: 0.077 | F21: 0.865 | G21: 0.333 | H21: 0.673 | I21: 0.305 | J21: 0.058 | K21: 0.075
B22: 0.341 | C22: 0.688 | D22: 0.503 | E22: 0.447 | F22: 0.545 | G22: 0.731 | H22: 0.994 | I22: 0.307 | J22: 0.22 | K22: 0.659
B23: 0.123 | C23: 0.791 | D23: 0.721 | E23: 0.137 | F23: 0.069 | G23: 0.998 | H23: 0.798 | I23: 0.879 | J23: 0.631 | K23: 0.422
B24: 0.006 | C24: 0.12 | D24: 0.914 | E24: 0.574 | F24: 0.263 | G24: 0.176 | H24: 0.104 | I24: 0.755 | J24: 0.432 | K24: 0.391
B26: INSTRUCTIONS
B27: 1. Begin with the numbers at the top of each column; use each successive pair of numbers to determine the longitudinal and transverse distance to each test site.
B28: 2. Arrange the pairs in sequential order based on the longitudinal location. Record the paired numbers on Lines G and H of Form TL-3112.
B29: 3. To determine the longitudinal distance from the start station on Line B, multiply the numbers on Line G by the length of the pavement on Line D. Round the product up to the next whole number and record on Line I. To determine the station of a test site, add the distance on Line I to the start station on Line B and record the result on Line J.
B30: 4. To determine the transverse distance from the edge of pavement, multiply the numbers on Line H by the width of the pavement on Line E. Round the product up to the next whole number and record on Line K. Any test site within 1 ft. of the pavement edge should be relocated to 1 ft. from the edge.
B31: 5. Reference all test sites to identifiable locations; e.g., edge of pavement, stationing, centerline, etc.
